BEGIN:VCALENDAR
VERSION:2.0
PRODID:icalendar-ruby
CALSCALE:GREGORIAN
BEGIN:VEVENT
DTSTAMP:20260419T115325Z
UID:90adcd1d-20c8-4cd2-bed3-43fe6d9fce1c
DTSTART;VALUE=DATE:20240316
DESCRIPTION:Property ID# 570292\, Locatoin: on site\, Time: 11:00AM
SUMMARY:Auction for 
END:VEVENT
END:VCALENDAR
