BEGIN:VCALENDAR
VERSION:2.0
PRODID:icalendar-ruby
CALSCALE:GREGORIAN
BEGIN:VEVENT
DTSTAMP:20260419T115833Z
UID:a99fa484-c7df-4273-a028-2f8a30f99f54
DTSTART;VALUE=DATE:20211211
DESCRIPTION:Property ID# 522571\, Locatoin: On Site\, Time: 12:00PM
SUMMARY:Auction for 
END:VEVENT
END:VCALENDAR
