BEGIN:VCALENDAR
VERSION:2.0
PRODID:icalendar-ruby
CALSCALE:GREGORIAN
BEGIN:VEVENT
DTSTAMP:20260419T115417Z
UID:3b9de777-3e7c-4959-92b9-734f9817760e
DTSTART;VALUE=DATE:20210911
DESCRIPTION:Property ID# 515533\, Locatoin: On Site\, Time: 11:00AM
SUMMARY:Auction for 
END:VEVENT
END:VCALENDAR
